BEGIN:VCALENDAR
VERSION:2.0
PRODID:-//https://www.orderdd.com///NONSGML kigkonsult.se iCalcreator 2.10.15//
METHOD:PUBLISH
BEGIN:VEVENT
UID:20260422T122001UTC-0762f286dr@https://www.orderdd.com/
DTSTAMP:20260422T122001Z
DESCRIPTION: https://www.orderdd.com/component/rseventspro/event/4179-3p-ti
 m-mccaig?Itemid=101
DTSTART;VALUE=DATE:20260530
LOCATION:Daiquiri Deck Bradenton Beach (107 Bridge St\, Bradenton Beach\, F
 L 34217)
SUMMARY:3p Tim McCaig
URL:https://www.orderdd.com/component/rseventspro/event/4179-3p-tim-mccaig?
 Itemid=101
END:VEVENT
END:VCALENDAR
