BEGIN:VCALENDAR
VERSION:2.0
PRODID:-//https://www.orderdd.com///NONSGML kigkonsult.se iCalcreator 2.10.15//
METHOD:PUBLISH
BEGIN:VEVENT
UID:20260421T022126UTC-1928c2E41K@https://www.orderdd.com/
DTSTAMP:20260421T022126Z
DESCRIPTION: https://www.orderdd.com/component/rseventspro/event/4163-5p-na
 thaniel-lee-white?Itemid=101
DTSTART;VALUE=DATE:20260531
LOCATION:Daiquiri Deck Island of Venice (300 W Venice Ave\, Venice\, FL 342
 85)
SUMMARY:5p Nathaniel Lee White
URL:https://www.orderdd.com/component/rseventspro/event/4163-5p-nathaniel-l
 ee-white?Itemid=101
END:VEVENT
END:VCALENDAR
