BEGIN:VCALENDAR
VERSION:2.0
PRODID:-//https://www.orderdd.com///NONSGML kigkonsult.se iCalcreator 2.10.15//
METHOD:PUBLISH
BEGIN:VEVENT
UID:20260421T003842UTC-5850Gz9aKK@https://www.orderdd.com/
DTSTAMP:20260421T003842Z
DESCRIPTION: https://www.orderdd.com/component/rseventspro/event/4162-7p-aa
 ron-kelly?Itemid=101
DTSTART;VALUE=DATE:20260530
LOCATION:Daiquiri Deck Island of Venice (300 W Venice Ave\, Venice\, FL 342
 85)
SUMMARY:7p Aaron Kelly
URL:https://www.orderdd.com/component/rseventspro/event/4162-7p-aaron-kelly
 ?Itemid=101
END:VEVENT
END:VCALENDAR
