BEGIN:VCALENDAR
VERSION:2.0
PRODID:-//https://www.orderdd.com///NONSGML kigkonsult.se iCalcreator 2.10.15//
METHOD:PUBLISH
BEGIN:VEVENT
UID:20260421T041936UTC-4940ZnvEbx@https://www.orderdd.com/
DTSTAMP:20260421T041936Z
DESCRIPTION: https://www.orderdd.com/component/rseventspro/event/4026-3p-ch
 ris-otto?Itemid=101
DTSTART;VALUE=DATE:20260530
LOCATION:Daiquiri Deck Siesta Key Village (5250 Ocean Blvd\, Sarasota\, FL 
 34242)
SUMMARY:3p Chris Otto 
URL:https://www.orderdd.com/component/rseventspro/event/4026-3p-chris-otto?
 Itemid=101
END:VEVENT
END:VCALENDAR
